BEGIN:VCALENDAR
VERSION:2.0
PRODID:-//Long Grove Christian Church - ECPv6.15.20//NONSGML v1.0//EN
CALSCALE:GREGORIAN
METHOD:PUBLISH
X-WR-CALNAME:Long Grove Christian Church
X-ORIGINAL-URL:https://longgrovechristianchurch.com
X-WR-CALDESC:Events for Long Grove Christian Church
REFRESH-INTERVAL;VALUE=DURATION:PT1H
X-Robots-Tag:noindex
X-PUBLISHED-TTL:PT1H
BEGIN:VTIMEZONE
TZID:America/Chicago
BEGIN:DAYLIGHT
TZOFFSETFROM:-0600
TZOFFSETTO:-0500
TZNAME:CDT
DTSTART:20180311T080000
END:DAYLIGHT
BEGIN:STANDARD
TZOFFSETFROM:-0500
TZOFFSETTO:-0600
TZNAME:CST
DTSTART:20181104T070000
END:STANDARD
BEGIN:DAYLIGHT
TZOFFSETFROM:-0600
TZOFFSETTO:-0500
TZNAME:CDT
DTSTART:20190310T080000
END:DAYLIGHT
BEGIN:STANDARD
TZOFFSETFROM:-0500
TZOFFSETTO:-0600
TZNAME:CST
DTSTART:20191103T070000
END:STANDARD
BEGIN:DAYLIGHT
TZOFFSETFROM:-0600
TZOFFSETTO:-0500
TZNAME:CDT
DTSTART:20200308T080000
END:DAYLIGHT
BEGIN:STANDARD
TZOFFSETFROM:-0500
TZOFFSETTO:-0600
TZNAME:CST
DTSTART:20201101T070000
END:STANDARD
END:VTIMEZONE
BEGIN:VEVENT
DTSTART;VALUE=DATE:20190807
DTEND;VALUE=DATE:20190808
DTSTAMP:20260423T150958
CREATED:20190709T015521Z
LAST-MODIFIED:20190709T015534Z
UID:246-1565136000-1565222399@longgrovechristianchurch.com
SUMMARY:No Mid Week Service
DESCRIPTION:
URL:https://longgrovechristianchurch.com/event/no-mid-week-service/
END:VEVENT
BEGIN:VEVENT
DTSTART;TZID=America/Chicago:20190806T170000
DTEND;TZID=America/Chicago:20190806T200000
DTSTAMP:20260423T150958
CREATED:20190709T015340Z
LAST-MODIFIED:20190709T015340Z
UID:242-1565110800-1565121600@longgrovechristianchurch.com
SUMMARY:VBS (Supper Served)
DESCRIPTION:
URL:https://longgrovechristianchurch.com/event/vbs-supper-served/
END:VEVENT
BEGIN:VEVENT
DTSTART;TZID=America/Chicago:20190805T180000
DTEND;TZID=America/Chicago:20190805T190000
DTSTAMP:20260423T150958
CREATED:20190709T015300Z
LAST-MODIFIED:20190709T015300Z
UID:240-1565028000-1565031600@longgrovechristianchurch.com
SUMMARY:VBS Staff work and Prayer with Pizza
DESCRIPTION:
URL:https://longgrovechristianchurch.com/event/vbs-staff-work-and-prayer-with-pizza/
END:VEVENT
BEGIN:VEVENT
DTSTART;TZID=America/Chicago:20190804T093000
DTEND;TZID=America/Chicago:20190804T103000
DTSTAMP:20260423T150958
CREATED:20190709T015225Z
LAST-MODIFIED:20190731T230151Z
UID:238-1564911000-1564914600@longgrovechristianchurch.com
SUMMARY:Morning Worship and Sunday School
DESCRIPTION:Elder: Frank \nScripture: Luke 20: 19-26
URL:https://longgrovechristianchurch.com/event/morning-worship-and-sunday-school/
END:VEVENT
BEGIN:VEVENT
DTSTART;TZID=America/Chicago:20190731T183000
DTEND;TZID=America/Chicago:20190731T193000
DTSTAMP:20260423T150958
CREATED:20190709T015146Z
LAST-MODIFIED:20190709T015146Z
UID:236-1564597800-1564601400@longgrovechristianchurch.com
SUMMARY:Mid Week Service
DESCRIPTION:
URL:https://longgrovechristianchurch.com/event/mid-week-service/
END:VEVENT
BEGIN:VEVENT
DTSTART;TZID=America/Chicago:20190728T093000
DTEND;TZID=America/Chicago:20190728T103000
DTSTAMP:20260423T150958
CREATED:20190709T015101Z
LAST-MODIFIED:20190709T015101Z
UID:234-1564306200-1564309800@longgrovechristianchurch.com
SUMMARY:Worship and Sunday School
DESCRIPTION:
URL:https://longgrovechristianchurch.com/event/worship-and-sunday-school-3/
END:VEVENT
BEGIN:VEVENT
DTSTART;TZID=America/Chicago:20190724T183000
DTEND;TZID=America/Chicago:20190724T193000
DTSTAMP:20260423T150958
CREATED:20190709T015005Z
LAST-MODIFIED:20190709T015005Z
UID:232-1563993000-1563996600@longgrovechristianchurch.com
SUMMARY:Mid Week Bible Study
DESCRIPTION:
URL:https://longgrovechristianchurch.com/event/mid-week-bible-study-3/
END:VEVENT
BEGIN:VEVENT
DTSTART;TZID=America/Chicago:20190724T170000
DTEND;TZID=America/Chicago:20190724T180000
DTSTAMP:20260423T150958
CREATED:20190709T014938Z
LAST-MODIFIED:20190709T014938Z
UID:230-1563987600-1563991200@longgrovechristianchurch.com
SUMMARY:Elder’s Meeting
DESCRIPTION:
URL:https://longgrovechristianchurch.com/event/elders-meeting/
END:VEVENT
BEGIN:VEVENT
DTSTART;TZID=America/Chicago:20190721T093000
DTEND;TZID=America/Chicago:20190721T103000
DTSTAMP:20260423T150958
CREATED:20190709T014904Z
LAST-MODIFIED:20190709T014904Z
UID:228-1563701400-1563705000@longgrovechristianchurch.com
SUMMARY:Worship and Sunday School
DESCRIPTION:
URL:https://longgrovechristianchurch.com/event/worship-and-sunday-school-2/
END:VEVENT
BEGIN:VEVENT
DTSTART;TZID=America/Chicago:20190717T183000
DTEND;TZID=America/Chicago:20190717T193000
DTSTAMP:20260423T150958
CREATED:20190709T014812Z
LAST-MODIFIED:20190709T014812Z
UID:226-1563388200-1563391800@longgrovechristianchurch.com
SUMMARY:Mid Week Bible Study
DESCRIPTION:
URL:https://longgrovechristianchurch.com/event/mid-week-bible-study-2/
END:VEVENT
BEGIN:VEVENT
DTSTART;TZID=America/Chicago:20190714T093000
DTEND;TZID=America/Chicago:20190714T223000
DTSTAMP:20260423T150958
CREATED:20190709T014743Z
LAST-MODIFIED:20190709T014743Z
UID:224-1563096600-1563143400@longgrovechristianchurch.com
SUMMARY:Worship and Sunday School
DESCRIPTION:
URL:https://longgrovechristianchurch.com/event/worship-and-sunday-school/
END:VEVENT
BEGIN:VEVENT
DTSTART;TZID=America/Chicago:20190710T183000
DTEND;TZID=America/Chicago:20190710T193000
DTSTAMP:20260423T150958
CREATED:20190709T014652Z
LAST-MODIFIED:20190709T014652Z
UID:222-1562783400-1562787000@longgrovechristianchurch.com
SUMMARY:Mid Week Bible Study
DESCRIPTION:
URL:https://longgrovechristianchurch.com/event/mid-week-bible-study/
END:VEVENT
BEGIN:VEVENT
DTSTART;TZID=America/Chicago:20190708T180000
DTEND;TZID=America/Chicago:20190708T190000
DTSTAMP:20260423T150958
CREATED:20190709T014606Z
LAST-MODIFIED:20190709T014606Z
UID:220-1562608800-1562612400@longgrovechristianchurch.com
SUMMARY:Board Meeting
DESCRIPTION:
URL:https://longgrovechristianchurch.com/event/board-meeting/
END:VEVENT
BEGIN:VEVENT
DTSTART;TZID=America/Chicago:20190708T093000
DTEND;TZID=America/Chicago:20190708T123000
DTSTAMP:20260423T150958
CREATED:20190709T015842Z
LAST-MODIFIED:20190709T015842Z
UID:256-1562578200-1562589000@longgrovechristianchurch.com
SUMMARY:Church Service & Church Picnic
DESCRIPTION:
URL:https://longgrovechristianchurch.com/event/church-service-church-picnic/
END:VEVENT
BEGIN:VEVENT
DTSTART;TZID=America/Chicago:20190707T093000
DTEND;TZID=America/Chicago:20190707T120000
DTSTAMP:20260423T150958
CREATED:20190708T211948Z
LAST-MODIFIED:20190708T211948Z
UID:218-1562491800-1562500800@longgrovechristianchurch.com
SUMMARY:Worship and Sunday School\, VBS Meeting following Worship
DESCRIPTION:
URL:https://longgrovechristianchurch.com/event/worship-and-sunday-school-vbs-meeting-following-worship/
END:VEVENT
END:VCALENDAR